BEGIN:VCALENDAR
VERSION:2.0
PRODID:-//Visit Essex MA - ECPv6.15.20//NONSGML v1.0//EN
CALSCALE:GREGORIAN
METHOD:PUBLISH
X-WR-CALNAME:Visit Essex MA
X-ORIGINAL-URL:https://visitessexma.org
X-WR-CALDESC:Events for Visit Essex MA
REFRESH-INTERVAL;VALUE=DURATION:PT1H
X-Robots-Tag:noindex
X-PUBLISHED-TTL:PT1H
BEGIN:VTIMEZONE
TZID:America/New_York
BEGIN:DAYLIGHT
TZOFFSETFROM:-0500
TZOFFSETTO:-0400
TZNAME:EDT
DTSTART:20250309T070000
END:DAYLIGHT
BEGIN:STANDARD
TZOFFSETFROM:-0400
TZOFFSETTO:-0500
TZNAME:EST
DTSTART:20251102T060000
END:STANDARD
BEGIN:DAYLIGHT
TZOFFSETFROM:-0500
TZOFFSETTO:-0400
TZNAME:EDT
DTSTART:20260308T070000
END:DAYLIGHT
BEGIN:STANDARD
TZOFFSETFROM:-0400
TZOFFSETTO:-0500
TZNAME:EST
DTSTART:20261101T060000
END:STANDARD
BEGIN:DAYLIGHT
TZOFFSETFROM:-0500
TZOFFSETTO:-0400
TZNAME:EDT
DTSTART:20270314T070000
END:DAYLIGHT
BEGIN:STANDARD
TZOFFSETFROM:-0400
TZOFFSETTO:-0500
TZNAME:EST
DTSTART:20271107T060000
END:STANDARD
END:VTIMEZONE
BEGIN:VEVENT
DTSTART;TZID=America/New_York:20260413T000000
DTEND;TZID=America/New_York:20260413T235959
DTSTAMP:20260420T150604
CREATED:20260402T020851Z
LAST-MODIFIED:20260403T193010Z
UID:1258-1776038400-1776124799@visitessexma.org
SUMMARY:Essex Shipbuilding Museum is officially 50!
DESCRIPTION:
URL:https://visitessexma.org/event/essex-shipbuilding-museum-is-officially-50/
LOCATION:Essex Historical Society and Shipbuilding Museum\, 66 Main St\, Essex\, Massachusetts\, 01929\, United States
END:VEVENT
END:VCALENDAR